BEGIN:VCALENDAR
VERSION:2.0
PRODID:-//wp-events-plugin.com//7.2.3.1//EN
TZID:Europe/Amsterdam
X-WR-TIMEZONE:Europe/Amsterdam
BEGIN:VEVENT
UID:312@knutsel-tijd.nl
DTSTART;TZID=Europe/Amsterdam:20260504T140000
DTEND;TZID=Europe/Amsterdam:20260504T160000
DTSTAMP:20260421T203901Z
URL:https://knutsel-tijd.nl/events/kinderatelier-4-7-jaar/
SUMMARY:Kinderatelier 4-7 jaar
DESCRIPTION: \n\nIn het Kinderatelier krijgen kinderen de mogelijkheid om t
 e leren werken met verschillende materialen en gereedschappen waar ze hun 
 eigen creaties mee mogen maken.\nHet gaat niet om het resultaat\, maar om 
 het proces van creatief bezig zijn.\n\nAlle informatie over de activiteite
 n in het Kinderatelier kun je HIER lezen.\n\nKosten voor kinderen van 4-7 
 jaar:€15\,00 per kind\nKinderen mogen zonder ouder/begeleider komen.\n\n
 Kinderen krijgen tussendoor limonade en een koekje. 
CATEGORIES:Kinderatelier 4-7 Jr.
LOCATION:Minke's Knutsel-tijd\, Rozenlaantje 8\, Hippolytushoef\, Noord Hol
 land\, 1777HR\, Hollands Kroon\, Nederland
X-APPLE-STRUCTURED-LOCATION;VALUE=URI;X-ADDRESS=Rozenlaantje 8\, Hippolytus
 hoef\, Noord Holland\, 1777HR\, Hollands Kroon\, Nederland;X-APPLE-RADIUS=
 100;X-TITLE=Minke's Knutsel-tijd:geo:0,0
END:VEVENT
BEGIN:VTIMEZONE
TZID:Europe/Amsterdam
X-LIC-LOCATION:Europe/Amsterdam
BEGIN:DAYLIGHT
DTSTART:20260329T030000
TZOFFSETFROM:+0100
TZOFFSETTO:+0200
TZNAME:CEST
END:DAYLIGHT
END:VTIMEZONE
END:VCALENDAR